BEGIN:VCALENDAR
VERSION:2.0
PRODID:-//British Paediatric Respiratory Society - ECPv6.15.20//NONSGML v1.0//EN
CALSCALE:GREGORIAN
METHOD:PUBLISH
X-WR-CALNAME:British Paediatric Respiratory Society
X-ORIGINAL-URL:https://bprs.co.uk
X-WR-CALDESC:Events for British Paediatric Respiratory Society
REFRESH-INTERVAL;VALUE=DURATION:PT1H
X-Robots-Tag:noindex
X-PUBLISHED-TTL:PT1H
BEGIN:VTIMEZONE
TZID:Europe/London
BEGIN:DAYLIGHT
TZOFFSETFROM:+0000
TZOFFSETTO:+0100
TZNAME:BST
DTSTART:20240331T010000
END:DAYLIGHT
BEGIN:STANDARD
TZOFFSETFROM:+0100
TZOFFSETTO:+0000
TZNAME:GMT
DTSTART:20241027T010000
END:STANDARD
BEGIN:DAYLIGHT
TZOFFSETFROM:+0000
TZOFFSETTO:+0100
TZNAME:BST
DTSTART:20250330T010000
END:DAYLIGHT
BEGIN:STANDARD
TZOFFSETFROM:+0100
TZOFFSETTO:+0000
TZNAME:GMT
DTSTART:20251026T010000
END:STANDARD
BEGIN:DAYLIGHT
TZOFFSETFROM:+0000
TZOFFSETTO:+0100
TZNAME:BST
DTSTART:20260329T010000
END:DAYLIGHT
BEGIN:STANDARD
TZOFFSETFROM:+0100
TZOFFSETTO:+0000
TZNAME:GMT
DTSTART:20261025T010000
END:STANDARD
END:VTIMEZONE
BEGIN:VEVENT
DTSTART;VALUE=DATE:20250402
DTEND;VALUE=DATE:20250404
DTSTAMP:20260422T225539
CREATED:20241212T020711Z
LAST-MODIFIED:20250616T100442Z
UID:4344-1743552000-1743724799@bprs.co.uk
SUMMARY:11th King's John Price Paediatric Respiratory Conference
DESCRIPTION:The 11th King’s John Price Paediatric Respiratory Conference is being held at Bush House\, London. This is an opportunity for the paediatric respiratory community to meet in person\, and we are delighted to bring the world’s leading experts together with healthcare professionals of all disciplines. Now in its 11th year\, the King’s John Price Paediatric Respiratory Conference\, London is the largest paediatric respiratory event in the Europe. This premier conference provides a brilliant opportunity for all health care professionals\, with an interest in paediatric respiratory conditions\, to interact and network.
URL:https://bprs.co.uk/event/11th-kings-john-price-paediatric-respiratory-conference/
LOCATION:Bush House\, 30 Aldwych\, London\, WC2B 4BG\, United Kingdom
CATEGORIES:UK Events
ATTACH;FMTTYPE=image/webp:https://bprs.co.uk/wp-content/uploads/2024/12/bushhousecentre-bg.webp
END:VEVENT
BEGIN:VEVENT
DTSTART;VALUE=DATE:20250326
DTEND;VALUE=DATE:20250329
DTSTAMP:20260422T225539
CREATED:20250213T205734Z
LAST-MODIFIED:20250616T101240Z
UID:5120-1742947200-1743206399@bprs.co.uk
SUMMARY:RCPCH Conference 2025
DESCRIPTION:The Conference theme is ‘Future child health: innovate\, integrate and inspire’\, and there is an exciting programme over three days\, including specialty sessions\, workshops and keynote speakers – approved for CPD.
URL:https://bprs.co.uk/event/rcpch-conference-2025/
LOCATION:The Scottish Event Campus (SEC)\, Exhibition Way\, Glasgow\, G3 8YW\, United Kingdom
CATEGORIES:UK Events
ATTACH;FMTTYPE=image/jpeg:https://bprs.co.uk/wp-content/uploads/2025/02/RCPCH-Banner1.jpg
ORGANIZER;CN="RCPCH":MAILTO:events@rcpch.ac.uk
END:VEVENT
END:VCALENDAR