BEGIN:VCALENDAR
VERSION:2.0
PRODID:-//British Paediatric Respiratory Society - ECPv6.15.20//NONSGML v1.0//EN
CALSCALE:GREGORIAN
METHOD:PUBLISH
X-WR-CALNAME:British Paediatric Respiratory Society
X-ORIGINAL-URL:https://bprs.co.uk
X-WR-CALDESC:Events for British Paediatric Respiratory Society
REFRESH-INTERVAL;VALUE=DURATION:PT1H
X-Robots-Tag:noindex
X-PUBLISHED-TTL:PT1H
BEGIN:VTIMEZONE
TZID:Europe/London
BEGIN:DAYLIGHT
TZOFFSETFROM:+0000
TZOFFSETTO:+0100
TZNAME:BST
DTSTART:20240331T010000
END:DAYLIGHT
BEGIN:STANDARD
TZOFFSETFROM:+0100
TZOFFSETTO:+0000
TZNAME:GMT
DTSTART:20241027T010000
END:STANDARD
BEGIN:DAYLIGHT
TZOFFSETFROM:+0000
TZOFFSETTO:+0100
TZNAME:BST
DTSTART:20250330T010000
END:DAYLIGHT
BEGIN:STANDARD
TZOFFSETFROM:+0100
TZOFFSETTO:+0000
TZNAME:GMT
DTSTART:20251026T010000
END:STANDARD
BEGIN:DAYLIGHT
TZOFFSETFROM:+0000
TZOFFSETTO:+0100
TZNAME:BST
DTSTART:20260329T010000
END:DAYLIGHT
BEGIN:STANDARD
TZOFFSETFROM:+0100
TZOFFSETTO:+0000
TZNAME:GMT
DTSTART:20261025T010000
END:STANDARD
END:VTIMEZONE
BEGIN:VEVENT
DTSTART;VALUE=DATE:20250604
DTEND;VALUE=DATE:20250608
DTSTAMP:20260422T132505
CREATED:20241212T072030Z
LAST-MODIFIED:20250616T100334Z
UID:4359-1748995200-1749340799@bprs.co.uk
SUMMARY:48th European Cystic Fibrosis Conference
DESCRIPTION:The ECFS annual conference provides a forum for all with a common interest in CF to meet and discuss their latest findings. This series of conferences began as the European Working Group for Cystic Fibrosis (EWGCF) with the first official meeting being held in Stockholm in 1970. True to the original tradition of the EWGCF\, each year the conference is held in a different European location and is usually of 3 days duration. \nAbstract submission deadline: 13 January 2025\, 12:00 p.m. CET
URL:https://bprs.co.uk/event/48th-european-cystic-fibrosis-conference/
LOCATION:Allianz MiCo\, Gate 6 Viale Lodovico Scarampo\, Milan\, 20149\, Italy
CATEGORIES:International Events
ATTACH;FMTTYPE=image/jpeg:https://bprs.co.uk/wp-content/uploads/2024/12/ECFS-Featured-1.jpg
END:VEVENT
END:VCALENDAR